BEGIN:VCALENDAR
VERSION:2.0
PRODID:-//Intand Corporation//Tandem//EN
METHOD:PUBLISH
BEGIN:VEVENT
DTSTAMP:20260422T041636Z
DTSTART:20261103T000000Z
DTEND:20261103T010000Z
TRANSP:TRANSPARENT
PRIORITY:0
SUMMARY:Booster Club Meeting
LOCATION:Cafeteria
DESCRIPTION:Groups:\nFootball Booster Club\n\nSchools:\nWestlake High Scho
 ol\n\nLocation:\nCafeteria\n\n
URL;VALUE=URI:https://westlakehigh.tandem.co/index.php?type=view&action=ev
 ent&id=20385
CREATED:20260107T131513Z
LAST-MODIFIED:20260107T134856Z
UID:event_request-20385-westlakehigh@intand.com
END:VEVENT
END:VCALENDAR
