BEGIN:VCALENDAR
VERSION:2.0
PRODID:-//Intand Corporation//Tandem//EN
METHOD:PUBLISH
BEGIN:VEVENT
DTSTAMP:20260422T030910Z
DTSTART:20260803T230000Z
DTEND:20260804T000000Z
TRANSP:TRANSPARENT
PRIORITY:0
SUMMARY:Booster Club Meeting
LOCATION:Cafeteria
DESCRIPTION:Groups:\nFootball Booster Club\n\nSchools:\nWestlake High Scho
 ol\n\nLocation:\nCafeteria\n\n
URL;VALUE=URI:https://westlakehigh.tandem.co/index.php?type=view&action=ev
 ent&id=20382
CREATED:20260107T131332Z
LAST-MODIFIED:20260107T134844Z
UID:event_request-20382-westlakehigh@intand.com
END:VEVENT
END:VCALENDAR
