BEGIN:VCALENDAR
VERSION:2.0
PRODID:-//Intand Corporation//Tandem//EN
METHOD:PUBLISH
BEGIN:VEVENT
DTSTAMP:20260421T214653Z
DTSTART:20260425T130000Z
DTEND:20260425T170000Z
TRANSP:TRANSPARENT
PRIORITY:0
SUMMARY:Zeta Phi Beta Business Meeting
LOCATION:Cafeteria
DESCRIPTION:Groups:\nZeta Phi Beta Sorority\, Inc.- Kappa\n\nSchools:\nWes
 tlake High School\n\nLocation:\nCafeteria\n\n
URL;VALUE=URI:https://westlakehigh.tandem.co/index.php?type=view&action=ev
 ent&id=20322
CREATED:20251031T145342Z
LAST-MODIFIED:20260403T155007Z
UID:event-20322-westlakehigh@intand.com
END:VEVENT
END:VCALENDAR
