BEGIN:VCALENDAR
VERSION:2.0
PRODID:-//Intand Corporation//Tandem//EN
METHOD:PUBLISH
BEGIN:VEVENT
DTSTAMP:20260420T193740Z
DTSTART:20210916T230000Z
DTEND:20210917T010000Z
TRANSP:TRANSPARENT
PRIORITY:0
SUMMARY:Royal Court Coronation and Pageant 
LOCATION:Auditorium
DESCRIPTION:Setup: 6:00 pm\nBreakdown: 9:30 pm\n\nGroups:\nSelect Students
  Only\n\nSchools:\nWestlake High School\n\nLocation:\nAuditorium\n\n
URL;VALUE=URI:https://westlakehigh.tandem.co/index.php?type=view&action=ev
 ent&id=14545
CREATED:20210907T185643Z
LAST-MODIFIED:20210907T185643Z
UID:event-14545-westlakehigh@intand.com
END:VEVENT
END:VCALENDAR
