BEGIN:VCALENDAR
VERSION:2.0
PRODID:-//Intand Corporation//Tandem//EN
METHOD:PUBLISH
BEGIN:VEVENT
DTSTAMP:20260419T163611Z
DTSTART:20260420T181500Z
DTEND:20260420T190000Z
TRANSP:TRANSPARENT
PRIORITY:0
SUMMARY:Athletics Signing Day
LOCATION:Auditorium
DESCRIPTION:Microphone and Podium needed\n\n\nGroups:\nWestlake Athletic D
 irector\n\nSchools:\nWestlake High School\n\nLocation:\nAuditorium\n\n
URL;VALUE=URI:http://westlakehigh.tandem.co/index.php?type=view&action=eve
 nt&id=20579
CREATED:20260416T200652Z
LAST-MODIFIED:20260416T200713Z
UID:event-20579-westlakehigh@intand.com
END:VEVENT
END:VCALENDAR
