BEGIN:VCALENDAR
VERSION:2.0
PRODID:-//Intand Corporation//Tandem//EN
METHOD:PUBLISH
BEGIN:VEVENT
DTSTAMP:20260424T055653Z
DTSTART:20260402T194500Z
DTEND:20260402T223000Z
TRANSP:TRANSPARENT
PRIORITY:0
SUMMARY:Blue Reign Interviews
LOCATION:The Black Box (Room 512)\, Auditorium
DESCRIPTION:Groups:\nDance Team\n\nSchools:\nWestlake High School\n\nLocat
 ions:\nThe Black Box (Room 512)\nAuditorium\n\n
URL;VALUE=URI:http://westlakehigh.tandem.co/index.php?type=view&action=eve
 nt&id=20353
CREATED:20260105T144705Z
LAST-MODIFIED:20260105T150437Z
UID:event_request-20353-westlakehigh@intand.com
END:VEVENT
END:VCALENDAR
