BEGIN:VCALENDAR
VERSION:2.0
PRODID:-//Intand Corporation//Tandem//EN
METHOD:PUBLISH
BEGIN:VEVENT
DTSTAMP:20260424T005740Z
DTSTART:20260330T194500Z
DTEND:20260330T223000Z
TRANSP:TRANSPARENT
PRIORITY:0
SUMMARY:Blue Reign Final Auditions
LOCATION:Multi Purpose Room (Room 101)
DESCRIPTION:Students are invited from the previous rounds to audition in p
 erson for the Blue Reign dance Line\n\n\nGroups:\nDance Team\n\nSchools:\n
 Westlake High School\n\nLocation:\nMulti Purpose Room (Room 101)\n\n
URL;VALUE=URI:http://westlakehigh.tandem.co/index.php?type=view&action=eve
 nt&id=20350
CREATED:20260105T144549Z
LAST-MODIFIED:20260105T150427Z
UID:event_request-20350-westlakehigh@intand.com
END:VEVENT
END:VCALENDAR
