BEGIN:VCALENDAR
VERSION:2.0
PRODID:-//Intand Corporation//Tandem//EN
METHOD:PUBLISH
BEGIN:VEVENT
DTSTAMP:20260423T084245Z
DTSTART:20191001T193500Z
DTEND:20191001T201500Z
TRANSP:TRANSPARENT
PRIORITY:0
SUMMARY:Swim Team Conditioning
LOCATION:Room 152 Fitness Lab
DESCRIPTION:Groups:\nSwimming Team\n\nSchools:\nWestlake High School\n\nLo
 cation:\nRoom 152 Fitness Lab\n\n
URL;VALUE=URI:http://westlakehigh.tandem.co/index.php?type=view&action=eve
 nt&id=13332
CREATED:20190925T115602Z
LAST-MODIFIED:20190925T133856Z
UID:event_request-13332-westlakehigh@intand.com
END:VEVENT
END:VCALENDAR
