BEGIN:VCALENDAR
VERSION:2.0
PRODID:-//Intand Corporation//Tandem//EN
METHOD:PUBLISH
BEGIN:VEVENT
DTSTAMP:20260420T222241Z
DTSTART;VALUE=DATE:20200318
DTEND;VALUE=DATE:20200319
TRANSP:TRANSPARENT
PRIORITY:0
SUMMARY:[Cancelled] Georgia Music Educators Association Middle School Band
  District 5 Large Group Performance Evaluation
LOCATION:The Black Box (Room 512)\, Auditorium Lobby\, Band Room\, Orchest
 ra Room\, Chorus Room\, Auditorium
DESCRIPTION:This event will be held for 3 straight days. March 18-20\, 201
 9. Cafeteria Tables placed in the auditorium lobby. 8 Large trash cans in 
 the auditorium lobby. Auditorium restrooms monitored hourly.\n\nGroups:\nA
 ll Fulton County Schools\n\nSchools:\nWestlake High School\n\nLocations:\n
 The Black Box (Room 512)\nAuditorium Lobby\nBand Room\nOrchestra Room\nCho
 rus Room\nAuditorium\n\nContacts:\nCedric Young\nLorenzo Davis\nOuida Burk
 e\nTosha Oliver\n\n
URL;VALUE=URI:http://westlakehigh.tandem.co/index.php?type=view&action=eve
 nt&id=13321
CREATED:20190916T125434Z
LAST-MODIFIED:20200320T171810Z
UID:event_request-13321-westlakehigh@intand.com
END:VEVENT
END:VCALENDAR
